BEGIN:VCALENDAR
VERSION:2.0
PRODID:-//Accademia Icheiron - ECPv6.15.20//NONSGML v1.0//EN
CALSCALE:GREGORIAN
METHOD:PUBLISH
X-WR-CALNAME:Accademia Icheiron
X-ORIGINAL-URL:https://accademiaicheiron.it
X-WR-CALDESC:Eventi per Accademia Icheiron
REFRESH-INTERVAL;VALUE=DURATION:PT1H
X-Robots-Tag:noindex
X-PUBLISHED-TTL:PT1H
BEGIN:VTIMEZONE
TZID:Europe/Rome
BEGIN:DAYLIGHT
TZOFFSETFROM:+0100
TZOFFSETTO:+0200
TZNAME:CEST
DTSTART:20240331T010000
END:DAYLIGHT
BEGIN:STANDARD
TZOFFSETFROM:+0200
TZOFFSETTO:+0100
TZNAME:CET
DTSTART:20241027T010000
END:STANDARD
BEGIN:DAYLIGHT
TZOFFSETFROM:+0100
TZOFFSETTO:+0200
TZNAME:CEST
DTSTART:20250330T010000
END:DAYLIGHT
BEGIN:STANDARD
TZOFFSETFROM:+0200
TZOFFSETTO:+0100
TZNAME:CET
DTSTART:20251026T010000
END:STANDARD
BEGIN:DAYLIGHT
TZOFFSETFROM:+0100
TZOFFSETTO:+0200
TZNAME:CEST
DTSTART:20260329T010000
END:DAYLIGHT
BEGIN:STANDARD
TZOFFSETFROM:+0200
TZOFFSETTO:+0100
TZNAME:CET
DTSTART:20261025T010000
END:STANDARD
END:VTIMEZONE
BEGIN:VEVENT
DTSTART;TZID=Europe/Rome:20250202T100000
DTEND;TZID=Europe/Rome:20250202T180000
DTSTAMP:20260424T211226
CREATED:20241130T225844Z
LAST-MODIFIED:20241130T230214Z
UID:10000030-1738490400-1738519200@accademiaicheiron.it
SUMMARY:Purificazione Energetica con Incensi\, Smudge e Palo Santo
DESCRIPTION:Workshop Intensivo – 2 febbraio 2025 Centro Mosaica\, Lido di Camaiore | Disponibile anche Online via Zoom \nTrasforma l’energia della tua vita e dei tuoi spazi attraverso antiche pratiche di purificazione\, reinterpretate in chiave moderna ed etica. Questo workshop intensivo ti guiderà alla scoperta del potere trasformativo di incensi\, smudge e palo santo\, insegnandoti come utilizzarli in modo consapevole e sostenibile. \nCosa Imparerai: \n\nTecniche pratiche di purificazione energetica\nUtilizzo etico e sostenibile dei materiali\nCreazione di spazi sacri e armoniosi\nIntegrazione con altre discipline energetiche\nRituali quotidiani per il benessere personale\n\nIl Workshop è Perfetto per Te se: \n\nDesideri migliorare l’energia della tua casa o del tuo spazio di lavoro\nLavori da casa o trascorri molto tempo in ambienti chiusi\nCerchi metodi pratici per mantenere uno spazio energeticamente pulito\nVuoi integrare la purificazione energetica nella tua pratica olistica\nSei interessato a un approccio etico e sostenibile al benessere\n\nFormato del Corso: ✨ In Presenza: presso il Centro Mosaica\, Lido di Camaiore ✨ Online: diretta Zoom con possibilità di: \n\nFare domande dal vivo\nInteragire tramite chat dedicata\nSeguire comodamente da casa\n\nMateriali Inclusi: ? Dispensa dettagliata con tutte le informazioni ? Registrazioni complete del corso per tutti i partecipanti \nInvestimento: Early Bird (fino al 23 gennaio): 70€ Prezzo Standard: 80€ \nLocation: In presenza: Centro Mosaica\, Lido di Camaiore Online: Piattaforma Zoom \nData: 2 febbraio 2025 \nPer Informazioni e Iscrizioni: ? Tel: (+39) 339 1590640 ? www.centromosaica.it/evento/purificazione-energetica-con-incensi/ \nPosti limitati per garantire un’esperienza formativa ottimale sia in presenza che online. Prenota ora per assicurarti il prezzo Early Bird e iniziare il tuo viaggio di trasformazione energetica.
URL:https://accademiaicheiron.it/evento/purificazione-energetica-con-incensi-smudge-e-palo-santo
LOCATION:Centro Mosaica\, Corte Anna magnani\, 1 -\, Lido di Camaiore\, 55041\, Italy
CATEGORIES:Energie Sottili,Purificazione Energetica
ATTACH;FMTTYPE=image/avif:https://accademiaicheiron.it/wp-content/uploads/2024/11/purificazione-energetica-1.jpg.avif
END:VEVENT
BEGIN:VEVENT
DTSTART;TZID=Europe/Rome:20250226T210000
DTEND;TZID=Europe/Rome:20250226T230000
DTSTAMP:20260424T211226
CREATED:20241218T173732Z
LAST-MODIFIED:20241218T181047Z
UID:10000034-1740603600-1740610800@accademiaicheiron.it
SUMMARY:Tera Mai Akasha Seichem 1° livello - Online e Seminario - Viareggio
DESCRIPTION:L’Akasha\, conosciuto come il quinto elemento o etere\, è l’energia che permea e interconnette tutti gli altri elementi. È un’energia profondamente trasformativa che lavora direttamente con il corpo spirituale\, permettendoci di accedere a un livello più profondo di guarigione e consapevolezza. \nIl corso di Tera Mai Akasha Seichem 1° livello ti guiderà alla scoperta di questa potente energia\, insegnandoti come percepirla\, utilizzarla e integrarla nel tuo percorso di crescita personale e spirituale. \nDate del Corso\nOnline: 26 febbraio\, 5 e 12 marzo 2025 \nIn presenza: 28-29-30 marzo 2025 Sede: Accademia Icheiron \nPrerequisiti\nPer partecipare a questo corso è necessario aver completato: \n\nGolden Tera Mai Reiki 1° livello – Seminario\nTera Mai Seichem 1° livello – Seminario\n\nCosa Imparerai\nDurante questo corso scoprirai: \n\nAutotrattamento con Akasha per il benessere personale\nTecniche avanzate di pulizia del campo aurico\nMetodi di protezione energetica\nIl potente Clearing delle Timeline\nLe tecniche dell’ultrasuono\, laser e infinito\nCome utilizzare l’Akasha con i cristalli\nPratiche di geomanzia e purificazione dei luoghi\n\nSvilupperai inoltre le tue capacità intuitive e psichiche\, potenziando la tua connessione spirituale e espandendo la tua consapevolezza energetica. \nStruttura del Corso\nIl corso si articola in due parti: \n\n3 serate online di teoria e preparazione\n3 giorni intensivi in presenza per la pratica e l’integrazione\n\nInvestimento\n€290 (include parte online e seminario in presenza) \nInformazioni e Iscrizioni\nPer informazioni e iscrizioni contattare: Nadia Email: accademiaicheiron@gmail.com \nI posti sono limitati\, ti consigliamo di prenotare il tuo posto il prima possibile. \nVuoi che approfondiamo o modifichiamo qualche sezione specifica?
URL:https://accademiaicheiron.it/evento/tera-mai-akasha-seichem-1-livello-online-e-seminario-viareggio/2025-02-26
LOCATION:Accademia Icheiron\, Via Sant'Ambrogio\, 5\, viareggio\, 55045\, Italia
CATEGORIES:Akasha Seichem 1,Tera Mai Academy
ATTACH;FMTTYPE=image/jpeg:https://accademiaicheiron.it/wp-content/uploads/2023/03/Akasha-1.jpg
END:VEVENT
END:VCALENDAR