BEGIN:VCALENDAR
VERSION:2.0
PRODID:-//Accademia Icheiron - ECPv6.15.20//NONSGML v1.0//EN
CALSCALE:GREGORIAN
METHOD:PUBLISH
X-WR-CALNAME:Accademia Icheiron
X-ORIGINAL-URL:https://accademiaicheiron.it
X-WR-CALDESC:Eventi per Accademia Icheiron
REFRESH-INTERVAL;VALUE=DURATION:PT1H
X-Robots-Tag:noindex
X-PUBLISHED-TTL:PT1H
BEGIN:VTIMEZONE
TZID:Europe/Rome
BEGIN:DAYLIGHT
TZOFFSETFROM:+0100
TZOFFSETTO:+0200
TZNAME:CEST
DTSTART:20220327T010000
END:DAYLIGHT
BEGIN:STANDARD
TZOFFSETFROM:+0200
TZOFFSETTO:+0100
TZNAME:CET
DTSTART:20221030T010000
END:STANDARD
BEGIN:DAYLIGHT
TZOFFSETFROM:+0100
TZOFFSETTO:+0200
TZNAME:CEST
DTSTART:20230326T010000
END:DAYLIGHT
BEGIN:STANDARD
TZOFFSETFROM:+0200
TZOFFSETTO:+0100
TZNAME:CET
DTSTART:20231029T010000
END:STANDARD
BEGIN:DAYLIGHT
TZOFFSETFROM:+0100
TZOFFSETTO:+0200
TZNAME:CEST
DTSTART:20240331T010000
END:DAYLIGHT
BEGIN:STANDARD
TZOFFSETFROM:+0200
TZOFFSETTO:+0100
TZNAME:CET
DTSTART:20241027T010000
END:STANDARD
BEGIN:DAYLIGHT
TZOFFSETFROM:+0100
TZOFFSETTO:+0200
TZNAME:CEST
DTSTART:20250330T010000
END:DAYLIGHT
BEGIN:STANDARD
TZOFFSETFROM:+0200
TZOFFSETTO:+0100
TZNAME:CET
DTSTART:20251026T010000
END:STANDARD
END:VTIMEZONE
BEGIN:VEVENT
DTSTART;TZID=Europe/Rome:20240705T080000
DTEND;TZID=Europe/Rome:20240707T170000
DTSTAMP:20260425T134233
CREATED:20240517T204641Z
LAST-MODIFIED:20240517T204708Z
UID:10000008-1720166400-1720371600@accademiaicheiron.it
SUMMARY:Seminario di Golden Tera Mai 2° livello
DESCRIPTION:
URL:https://accademiaicheiron.it/evento/seminario-di-golden-tera-mai-2-livello
LOCATION:Agriturismo Fontallorso\, Località Borselli Caffarelli\, 56 ·\, Firenze\, Italia
CATEGORIES:Golden 2
ATTACH;FMTTYPE=image/jpeg:https://accademiaicheiron.it/wp-content/uploads/2023/04/Golden-2-Presenza.jpg
END:VEVENT
BEGIN:VEVENT
DTSTART;TZID=Europe/Rome:20240625T210000
DTEND;TZID=Europe/Rome:20240625T223000
DTSTAMP:20260425T134233
CREATED:20240517T194956Z
LAST-MODIFIED:20240517T195013Z
UID:10000006-1719349200-1719354600@accademiaicheiron.it
SUMMARY:La Luce dei Tarocchi – Avanzamento
DESCRIPTION:
URL:https://accademiaicheiron.it/evento/la-luce-dei-tarocchi-avanzamento
CATEGORIES:Tarologia
ATTACH;FMTTYPE=image/jpeg:https://accademiaicheiron.it/wp-content/uploads/2024/02/tarologia.jpeg
END:VEVENT
BEGIN:VEVENT
DTSTART;TZID=Europe/Rome:20240621T080000
DTEND;TZID=Europe/Rome:20240623T170000
DTSTAMP:20260425T134233
CREATED:20240517T203922Z
LAST-MODIFIED:20240517T203940Z
UID:10000007-1718956800-1719162000@accademiaicheiron.it
SUMMARY:Seminario di Costruzione e Uso del Tamburo Sciamanico
DESCRIPTION:
URL:https://accademiaicheiron.it/evento/seminario-di-costruzione-e-uso-del-tamburo-sciamanico
CATEGORIES:Sciamanesimo
ATTACH;FMTTYPE=image/jpeg:https://accademiaicheiron.it/wp-content/uploads/2024/05/costruzione-tamburo-sciamanico.jpg
END:VEVENT
BEGIN:VEVENT
DTSTART;TZID=Europe/Rome:20240326T210000
DTEND;TZID=Europe/Rome:20240326T230000
DTSTAMP:20260425T134233
CREATED:20240318T180820Z
LAST-MODIFIED:20240318T182543Z
UID:10000004-1711486800-1711494000@accademiaicheiron.it
SUMMARY:Corso di Golden Tera Mai 2° livello - online
DESCRIPTION:Scopri il potere trasformativo del secondo livello Golden Tera Mai! Questo viaggio esclusivo\, aperto solo a chi ha già sperimentato la magia del primo livello\, ti guida oltre i confini del conosciuto\, invitandoti a connetterti profondamente con l’universo e l’energia divina. Immagina di imparare l’arte dei simboli sacri\, capaci di guarire a distanza\, purificare spazi e portare protezione e benedizioni oltre tempo e spazio. \n\n\n\nTi aspetta un’avventura che trasforma la mente e il cuore\, offrendoti strumenti per affrontare relazioni\, traumi e sfide\, sia passate che future. Con il secondo livello\, abbracci la possibilità di attivare i chakra sui piedi per un legame ancora più profondo con Madre Terra\, mentre esplori e trasmuti gli atteggiamenti mentali che limitano la tua vita. \n\n\n\nIn più\, un’opportunità unica ti attende: l’iniziazione all’Ordine di Melchizedek\, che apre le porte a un flusso energetico più puro e potente\, connettendoti direttamente al disegno divino per la Terra. \n\n\n\nNon perdere la chance di elevare la tua pratica di guarigione a un livello superiore\, di scoprire i segreti dei simboli sacri e di trasformare la tua vita e quella degli altri. Unisciti a noi nel secondo livello di Golden Tera Mai e diventa un faro di luce nell’universo. Sei pronto per questa trasformazione?
URL:https://accademiaicheiron.it/evento/corso-di-golden-tera-mai-2-livello-online
CATEGORIES:Golden 2
ATTACH;FMTTYPE=image/webp:https://accademiaicheiron.it/wp-content/uploads/2024/03/DALL·E-2024-03-18-19.05.36-Create-a-serene-and-captivating-image-that-embodies-the-essence-of-the-Golden-Tera-Mai-2nd-level-using-a-pastel-color-palette-to-convey-a-sense-of-ge.webp
END:VEVENT
BEGIN:VEVENT
DTSTART;TZID=Europe/Rome:20240223T080000
DTEND;TZID=Europe/Rome:20240225T170000
DTSTAMP:20260425T134233
CREATED:20231209T164424Z
LAST-MODIFIED:20240213T164407Z
UID:10000003-1708675200-1708880400@accademiaicheiron.it
SUMMARY:Corso di Tera Mai Seichem 1° livello - Seminario dal Vivo
DESCRIPTION:Il Tera Mai Seichem 1° livello è un corso introduttivo che insegna le basi del sistema di guarigione energetica Tera Mai Seichem. Durante questo livello\, i partecipanti apprendono a connettersi e a utilizzare le energie degli elementi di Fuoco (Sakara)\, Acqua (Sophi-El)\, Aria (Angeliclight)\, oltre all’energia della Terra\, già presente nel Reiki. Gli studenti ricevono iniziazioni che aprono i canali energetici per permettere loro di canalizzare queste energie per la guarigione personale e per aiutare gli altri. \n\n\n\nIl corso copre vari aspetti\, inclusi: \n\n\n\n\nStoria e principi del Tera Mai Seichem: Vengono esplorate le origini e i principi fondamentali di questa pratica antica\, mettendo in evidenza la sua efficacia e i suoi benefici nella vita moderna.\n\n\n\nConnessione agli elementi: Gli studenti imparano a connettersi con le energie degli elementi naturali\, ciascuno dei quali porta specifici benefici e qualità curative.\n\n\n\nTecniche di guarigione di base: Il corso insegna tecniche pratiche per la pulizia dell’aura\, l’equilibrio dei chakra\, e la guarigione a distanza\, fornendo agli studenti gli strumenti necessari per iniziare il percorso di guarigione energetica.\n\n\n\nIniziazione al 1° livello di Tera Mai Seichem: Questa iniziazione è un passo cruciale che permette agli studenti di diventare canali per l’energia Seichem\, aumentando la loro capacità di lavorare con queste energie per la guarigione.\n\n\n\nIniziazione alla Fiamma Viola: Apertura alla potente energia di trasmutazione per la purificazione e la guarigione spirituale.\n\n\n\n\nIl corso si propone di offrire una comprensione profonda dell’energia Seichem e di come essa possa essere utilizzata per promuovere la guarigione e il benessere. Attraverso l’iniziazione e la pratica\, gli studenti sviluppano una connessione personale con queste energie\, aprendo la strada per un percorso di crescita personale e spirituale. \n\n\n\nQuesto livello serve come fondamento per ulteriori studi e pratiche nel Tera Mai Seichem\, permettendo agli studenti di esplorare in modo più approfondito le potenzialità di questa modalità di guarigione nei livelli successivi.
URL:https://accademiaicheiron.it/evento/corso-di-tera-mai-seichem-1-livello-seminario-dal-vivo
LOCATION:La Brilla\, Via Pietra a Padule\, 118\, Massarosa\, Lucca\, 55054\, Italia
CATEGORIES:Seichem 1
ATTACH;FMTTYPE=image/jpeg:https://accademiaicheiron.it/wp-content/uploads/2023/04/Seichem-1-presenza.jpg
END:VEVENT
BEGIN:VEVENT
DTSTART;TZID=Europe/Rome:20231212T210000
DTEND;TZID=Europe/Rome:20231212T230000
DTSTAMP:20260425T134233
CREATED:20231204T002135Z
LAST-MODIFIED:20231204T002223Z
UID:10000002-1702414800-1702422000@accademiaicheiron.it
SUMMARY:Corso di Golden Tera Mai 1° livello
DESCRIPTION:
URL:https://accademiaicheiron.it/evento/corso-di-golden-tera-mai-1-livello
CATEGORIES:Golden 1
LOCATION:
END:VEVENT
END:VCALENDAR