BEGIN:VCALENDAR
VERSION:2.0
PRODID:-//Accademia Icheiron - ECPv6.15.20//NONSGML v1.0//EN
CALSCALE:GREGORIAN
METHOD:PUBLISH
X-ORIGINAL-URL:https://accademiaicheiron.it
X-WR-CALDESC:Eventi per Accademia Icheiron
REFRESH-INTERVAL;VALUE=DURATION:PT1H
X-Robots-Tag:noindex
X-PUBLISHED-TTL:PT1H
BEGIN:VTIMEZONE
TZID:Europe/Rome
BEGIN:DAYLIGHT
TZOFFSETFROM:+0100
TZOFFSETTO:+0200
TZNAME:CEST
DTSTART:20240331T010000
END:DAYLIGHT
BEGIN:STANDARD
TZOFFSETFROM:+0200
TZOFFSETTO:+0100
TZNAME:CET
DTSTART:20241027T010000
END:STANDARD
BEGIN:DAYLIGHT
TZOFFSETFROM:+0100
TZOFFSETTO:+0200
TZNAME:CEST
DTSTART:20250330T010000
END:DAYLIGHT
BEGIN:STANDARD
TZOFFSETFROM:+0200
TZOFFSETTO:+0100
TZNAME:CET
DTSTART:20251026T010000
END:STANDARD
BEGIN:DAYLIGHT
TZOFFSETFROM:+0100
TZOFFSETTO:+0200
TZNAME:CEST
DTSTART:20260329T010000
END:DAYLIGHT
BEGIN:STANDARD
TZOFFSETFROM:+0200
TZOFFSETTO:+0100
TZNAME:CET
DTSTART:20261025T010000
END:STANDARD
END:VTIMEZONE
BEGIN:VEVENT
DTSTART;TZID=Europe/Rome:20250319T210000
DTEND;TZID=Europe/Rome:20250319T230000
DTSTAMP:20260423T225000
CREATED:20241120T203751Z
LAST-MODIFIED:20241120T204629Z
UID:10000012-1742418000-1742425200@accademiaicheiron.it
SUMMARY:Golden Tera Mai 1° livello - Parte 1: Corso Online
DESCRIPTION:con Alberto “Taruh” Lathuan\nInizio corso online: 19 Marzo 2025\nUn viaggio trasformativo di 10 lezioni online per sbloccare il tuo potenziale di guarigione\, esplorando le antiche tecniche del Golden Tera Mai Reiki e la loro applicazione moderna. Guidato dall’esperto Alberto ‘Taruh’ Lathuan\, il corso alterna teoria e pratica\, permettendoti di sperimentare direttamente il potere dell’energia universale e di iniziare il tuo percorso come operatore olistico. \nScopri il Potere del Golden Tera Mai\nIl Golden Tera Mai è un sistema avanzato di guarigione energetica che combina antiche saggezze con tecniche moderne. Questo corso ti guiderà verso una profonda connessione con te stesso e con l’energia universale\, trasformando la tua vita e aprendo nuove possibilità di guarigione. \n\nIscriviti Ora!\n\nPrevious slide\nNext slide \nQuesto Corso Fa per te se\n\nSei alla ricerca di crescita personale e spirituale\nDesideri imparare tecniche di auto-guarigione efficaci\nVuoi ridurre lo stress e trovare equilibrio nella tua vita\nSei interessato a pratiche olistiche e benessere naturale\nSei un principiante delle energie sottili e vuoi conoscerle meglio\nHai già esperienza con altre pratiche energetiche e vuoi approfondire alcuni concetti sulle energie sottili\, i campi quantici e i meccanismi esoterici\n\nIl Tera Mai è un percorso di crescita personale e spirituale che ti permette di connetterti con la tua parte divina\, sviluppando il tuo potenziale di \n Guaritore Interiore. \n\nAttraverso la meditazione e l’ascolto profondo\, imparerai a capire l’energia e come utilizzarla per migliorare la tua vita e quella degli altri. \nDurante il corso\, acquisirai molte nozioni e tecniche energetiche e imparerai a proteggerti dalle energie disarmoniche. \nLa differenza principale rispetto ad altre tecniche è che nel Tera Mai\, imparerai a utilizzare diverse vibrazioni e frequenze energetiche nella tua vita quotidiana\, diventando un canale dell’Energia Universale. \n \nIl Programma\nModulo 1 – Le Basi\nINTRODUZIONE \n\nChe cos’è il percorso del Tera Mai\nCos’è il Tera Mai Reiki\nLe Regole del Buddha per il Tera Mai\n\nModulo 2 – Oltre il corpo fisico: Il sistema energetico umano\n\nAnatomia energetica :Aura\, Corpi Sottili\, Meridiani Nadi\, Chakra\nCosa sono i Chakra\nPrimo Chakra (alla fine di ogni chakra meditazione per riequilibrare)\nSecondo Chakra\nTerzo Chakra\nQuarto Chakra\nQuinto Chakra\nSesto Chakra\nSettimo Chakra\nChakra Soul Star\nChakra Earth Star\nChakra Secondari\n\nModulo 3 – Impariamo a respirare\n\nL’attenzione del Respiro\nIl Respiro consapevole\nFacciamo un po’ di pratica\n\nModulo 4 – L’iniziazione\n\nCos’è un iniziazione\nCos’è un iniziazione artificiale\nCome funziona L’iniziazione di Golden Tera Mai livello 1\nEssere un Canale e l’importanza della Centratura\nCentrarsi nel Cuore\nCome Canalizzare L’energia\nCosa sono i Clearings\nCreazione del campo energetico\n\nModulo 5 – L’Autotrattamento\n\nPerché è importante autotrattarsi\nCome si fa L’autotrattamento\n\nModulo 6 – Prepararsi al Trattamento\n\nIntroduzione al Trattamento\nCome purificare i propri ambienti\nL’importanza della Preghiera\nL’importanza della Meditazione\nCostruire il campo energetico\nCome iniziare un Trattamento\nLe Tecniche di Base di ogni trattamento\nRimuovere Blocchi ed energie disarmoniche\nDrenare\nScaricare nel fuoco Centrale\nRiempire i vuoti\nTerminare un trattamento\nInterrompere la connessione\n\nModulo 7 – Il Tera Mai Nel Quotidiano\n \n\nL’importanza di usare il Tera Mai nella propria Quotidianità\nCome trattare gli Animali con il Tera Mai\nCome trattare i bambini con il Tera Mai\nCome trattare i cibi che ingeriamo e il perché è importante farlo\nCome caricare un oggetto di energia del Tera Mai\nTrattare Pietre e Cristalli\nProteggersi con il Tera Mai\nQuanto deve costare un trattamento?\nIl Percorso del Tera Mai\, come funziona e da cosa è formato\n\n\nRiserva il Tuo posto!\n \n10 Benefici che otterrai da questo Corso\n\nConnessione Profonda con l’Energia Universale: Imparerai a connetterti con le energie universali per la guarigione\, sviluppando una comprensione profonda del flusso energetico.\nGuarigione Energetica Completa: Utilizzerai tecniche avanzate per il benessere di corpo\, mente e spirito\, promuovendo un benessere olistico.\nEquilibrio dei Chakra: Acquisirai competenze per bilanciare e armonizzare i chakra\, migliorando la tua energia vitale.\nPurificazione dell’Aura: Imparerai a purificare l’aura\, eliminando energie negative e proteggendo il tuo campo energetico.\nRiduzione dello Stress: Le tecniche di Golden Tera Mai aiutano a ridurre lo stress e l’ansia\, promuovendo uno stato di calma e tranquillità.\nPotere di Auto-Guarigione: Potrai attivare e potenziare le tue capacità di auto-guarigione\, migliorando la tua salute e vitalità.\nCrescita Personale e Spirituale: Il corso favorisce una profonda crescita personale e spirituale\, aiutandoti a connetterti con la tua essenza interiore.\nTecniche di Guarigione Energetica Efficaci: Apprenderai tecniche di guarigione energetica altamente efficaci e potenti\, utilizzabili in diverse situazioni.\nSupporto Continuo: Offriamo supporto continuo ai nostri studenti\, con accesso a risorse e comunità di praticanti.\nCertificazione Ufficiale: Al termine del corso\, riceverai una certificazione ufficiale che attesta la tua competenza nel Golden Tera Mai 1° livello.\n\nCosa apprenderai\nIl livello iniziale di Golden Tera Mai è progettato per aiutare a prendersi cura di sé stessi e per abituare il corpo alla ricezione dell’energia. Il corso fornisce anche le basi per effettuare trattamenti energetici su: \n\nse stessi\ni propri cari\ngli animali\nLe piante\nsul cibo e bevande.\n\nIl primo livello di Golden Tera Mai è incentrato sulla crescita personale e sulla familiarizzazione con l’energia. Nonostante sia principalmente focalizzato sull’aiutare se stessi\, fornisce anche le basi per poter effettuare trattamenti energetici su amici e familiari. \nDopo l’attivazione\, lo studente attraverserà un periodo di purificazione di 21 giorni\, importante per integrare il cambiamento energetico e migliorare la guarigione e la crescita spirituale. \nIl corso di primo livello include l’attivazione alle energie di Terra del Tera Mai\, che consente di essere consapevolmente connessi all’energia universale e di usarla autonomamente. \n\nIscriviti Subito!\n \nDicono di Questo Corso\nOgni corso un regalo per l’anima\, l’opportunità di aiutare se stessi e gli altri facendosi guidare da questa meravigliosa energia che travolge e protegge allo stesso tempo.\n\nAnnalisa V.\nSono arrivata per caso a questa disciplina\, ed oggi\, dopo poco più di un anno\, continuo a ringraziare me stessa per essermelo concesso! Il primo livello di Golden\, in particolar modo\, è un corso che consiglio a tutti\, aiuta a conoscersi e migliorarsi in modo tale da poter poi andar ad aiutare anche gli altri.\n\nRita B.\nPartecipare al corso è stato un po’ come aprire una finestra su un nuovo mondo\, in realtà era un mondo che già conoscevo ma non me lo ricordavo. Iniziare a lavorare su di me con l’energia\, sentirla scorrere e vedere i cambiamenti che avvenivano in me\, di volta in volta\, è stato molto interessante\, divertente e molto intenso: non mi ero creata aspettative\, quando avevo scelto di iscrivermi al corso\, ma sicuramente è andato oltre ogni più roseo pensiero!\n\nFrancesca C.\nPrecedente\nSuccessivo \nL’insegnante\nCon oltre 24 anni di esperienza nelle pratiche energetiche\, Alberto è uno dei sei insegnanti in Europa abilitati a insegnare il Tera Mai™ Akasha Seichem. La sua passione e competenza ti guideranno in questo viaggio trasformativo. \n \nIl Tera Mai non è solo una tecnica\, è un percorso di vita che ti porta a scoprire il tuo vero potenziale. \nAlberto \nDove e Quando\nIl Corso di Golden Tera Mai Reiki 1° livello si svolge in due parti complementari. La prima parte si terrà interamente online\, offrendo la massima flessibilità e accessibilità. Le lezioni inizieranno il 19 Marzo 2024 e si svolgeranno nell’arco di 10 sessioni. Questa modalità di apprendimento ti permette di partecipare comodamente da casa tua o da qualsiasi luogo tu preferisca\, eliminando le barriere geografiche e adattandosi perfettamente ai tuoi impegni quotidiani. Le lezioni saranno condotte in diretta\, consentendo un’interazione immediata con l’insegnante e gli altri partecipanti\, ma saranno anche registrate per permetterti di rivedere i contenuti quando vorrai. \nLa seconda parte (non compresa in questo prezzo) è un seminario intensivo di 3 giorni che si terrà dal vivo 6 – 7 – 8 giugno 2025. Qui potrai mettere in pratica ciò che hai imparato online\, approfondire le tecniche e vivere un’esperienza immersiva di guarigione energetica. Questo seminario ti offrirà l’opportunità di consolidare le tue conoscenze attraverso l’applicazione pratica\, l’interazione diretta con l’insegnante e gli altri partecipanti\, e un’immersione totale nell’energia del Golden Tera Mai Reiki. \nPreparati a intraprendere questo viaggio completo di crescita personale e spirituale\, combinando la flessibilità dell’apprendimento online con l’intensità dell’esperienza dal vivo. \nCosti e prenotazione \nIl Corso di Golden Tera Mai Reiki 1° livello è strutturato in due parti\, ciascuna con un costo distinto per offrirti la massima flessibilità. \nLa prima parte\, che si svolge interamente online\, ha un investimento di 150 euro. \nQuesta include le 10 lezioni online\, l’accesso a tutti i materiali didattici e il supporto continuo durante il corso. \nNon perdere l’opportunità di trasformare la tua vita: i posti per questo viaggio di scoperta interiore sono limitati\, e il corso viene offerto solo due volte all’anno.  \nUnisciti a noi ora e sii parte di questo meraviglioso gruppo di persone pronte a sbloccare il proprio potenziale di guarigione.  \nIl tuo futuro più luminoso ti sta aspettando – agisci ora per assicurarti di percorrere questo straordinario percorso di crescita personale e spirituale.\nQuesto potrebbe essere il momento perfetto per iniziare la tua trasformazione. Non lasciare che questa rara opportunità ti sfugga.. \n(Il seminario intensivo di 3 giorni\, che rappresenta la seconda parte del corso\, ha un investimento aggiuntivo di 120 euro. Questo copre l’esperienza immersiva dal vivo\, essenziale per la pratica e l’approfondimento delle tecniche apprese.) \n  \nPer partecipare è necessario iscriversi: ti basterà compilare il form qui sotto e versare la caparra di 80 euro. Per pagare ti verrà mandata un’email con i dati per il pagamento tramite bonifico bancario o PayPal.* \nQuesta caparra assicura il tuo posto nel corso e verrà detratta dal costo totale. Il saldo rimanente potrà essere versato prima dell’inizio del corso o secondo le modalità che verranno comunicate. \nper qualsiasi informazione o necessità non esitare a contattarci \nCell :+39 377 329 7517 (anche whatsapp e Telegram) \nemail: accademiaicheiron@gmail.com \n*In caso di annullamento\, la caparra non è rimborsabile ma è riutilizzabile entro un anno dalla prenotazione per qualsiasi evento organizzato dall’Accademia Icheiron. Questa politica ci permette di gestire al meglio l’organizzazione del corso\, garantendo flessibilità ai nostri studenti. \nPer Informazioni e Iscrizioni
URL:https://accademiaicheiron.it/evento/golden-tera-mai-1-livello-parte-1-corso-online-2
LOCATION:Accademia Icheiron\, Via Sant'Ambrogio\, 5\, viareggio\, 55045\, Italia
CATEGORIES:Golden 1
ATTACH;FMTTYPE=image/jpeg:https://accademiaicheiron.it/wp-content/uploads/2023/12/Golden-1.jpg
END:VEVENT
END:VCALENDAR